BEGIN:VCALENDAR
PRODID:-//Microsoft Corporation//Outlook 14.0 MIMEDIR//EN
VERSION:2.0
METHOD:PUBLISH
BEGIN:VEVENT
UID:80dfaf2a369cc01ae6f5464281954032www.sgq.qc.ca
DTSTAMP:20260420T084525Z
DTSTART:2026-03-18T19:30:0000Z
DTEND:2026-03-18T21:30:0000Z
SUMMARY:Conférence du 18 mars 2026 <br>Le comportement de nos ancêtres face aux armées de Washington en 1775-1776.
LOCATION:
DESCRIPTION:À cause de circonstances exceptionnelles, le conférencier Paul-André Dubois n’est pas en mesure de faire sa présentation mercredi prochain, 18 mars. Celle-ci est repoussée de quelques mois. <br><br>

En lieu et place, l’historien et généalogiste Roger Barrette nous fera revivre les graves événements survenus il y a exactement 250 ans:  L’occupation du Québec par les troupes de Washington et ses lourdes conséquences pour nos ancêtres. 
END:VEVENT
END:VCALENDAR